BEGIN:VCALENDAR
VERSION:2.0
PRODID:-//Red Deer PCN - ECPv6.15.20//NONSGML v1.0//EN
CALSCALE:GREGORIAN
METHOD:PUBLISH
X-WR-CALNAME:Red Deer PCN
X-ORIGINAL-URL:https://reddeerpcn.com
X-WR-CALDESC:Events for Red Deer PCN
REFRESH-INTERVAL;VALUE=DURATION:PT1H
X-Robots-Tag:noindex
X-PUBLISHED-TTL:PT1H
BEGIN:VTIMEZONE
TZID:America/Edmonton
BEGIN:DAYLIGHT
TZOFFSETFROM:-0700
TZOFFSETTO:-0600
TZNAME:MDT
DTSTART:20230312T090000
END:DAYLIGHT
BEGIN:STANDARD
TZOFFSETFROM:-0600
TZOFFSETTO:-0700
TZNAME:MST
DTSTART:20231105T080000
END:STANDARD
BEGIN:DAYLIGHT
TZOFFSETFROM:-0700
TZOFFSETTO:-0600
TZNAME:MDT
DTSTART:20240310T090000
END:DAYLIGHT
BEGIN:STANDARD
TZOFFSETFROM:-0600
TZOFFSETTO:-0700
TZNAME:MST
DTSTART:20241103T080000
END:STANDARD
BEGIN:DAYLIGHT
TZOFFSETFROM:-0700
TZOFFSETTO:-0600
TZNAME:MDT
DTSTART:20250309T090000
END:DAYLIGHT
BEGIN:STANDARD
TZOFFSETFROM:-0600
TZOFFSETTO:-0700
TZNAME:MST
DTSTART:20251102T080000
END:STANDARD
END:VTIMEZONE
BEGIN:VEVENT
DTSTART;TZID=America/Edmonton:20241010T110000
DTEND;TZID=America/Edmonton:20241010T150000
DTSTAMP:20260423T172315
CREATED:20240930T174845Z
LAST-MODIFIED:20240930T175804Z
UID:10001395-1728558000-1728572400@reddeerpcn.com
SUMMARY:The Man Van
DESCRIPTION:The Man Van is coming to Red Deer on Thursday\, October 10th\, 2024. \nIf you have not heard about THE MAN VAN – it is a free PSA test for men! \nPlace: TD Canada Branch Red Deer \nAddress: 5001 19 St Unit 501 \nDate: Thursday\, October 10\, 2024 \nTime: 11AM-3PM
URL:https://reddeerpcn.com/events/the-man-van/
LOCATION:TD Canada Branch Red Deer\, 19 Street\, Red Deer\, Alberta\, T4R 3R1\, Canada
CATEGORIES:Men's Health
GEO:52.2315125;-113.8182172
X-APPLE-STRUCTURED-LOCATION;VALUE=URI;X-ADDRESS=TD Canada Branch Red Deer 19 Street Red Deer Alberta T4R 3R1 Canada;X-APPLE-RADIUS=500;X-TITLE=19 Street:geo:-113.8182172,52.2315125
END:VEVENT
END:VCALENDAR