BEGIN:VCALENDAR
VERSION:2.0
PRODID:-//Red Deer PCN - ECPv6.15.20//NONSGML v1.0//EN
CALSCALE:GREGORIAN
METHOD:PUBLISH
X-WR-CALNAME:Red Deer PCN
X-ORIGINAL-URL:https://reddeerpcn.com
X-WR-CALDESC:Events for Red Deer PCN
REFRESH-INTERVAL;VALUE=DURATION:PT1H
X-Robots-Tag:noindex
X-PUBLISHED-TTL:PT1H
BEGIN:VTIMEZONE
TZID:America/Edmonton
BEGIN:DAYLIGHT
TZOFFSETFROM:-0700
TZOFFSETTO:-0600
TZNAME:MDT
DTSTART:20210314T090000
END:DAYLIGHT
BEGIN:STANDARD
TZOFFSETFROM:-0600
TZOFFSETTO:-0700
TZNAME:MST
DTSTART:20211107T080000
END:STANDARD
BEGIN:DAYLIGHT
TZOFFSETFROM:-0700
TZOFFSETTO:-0600
TZNAME:MDT
DTSTART:20220313T090000
END:DAYLIGHT
BEGIN:STANDARD
TZOFFSETFROM:-0600
TZOFFSETTO:-0700
TZNAME:MST
DTSTART:20221106T080000
END:STANDARD
BEGIN:DAYLIGHT
TZOFFSETFROM:-0700
TZOFFSETTO:-0600
TZNAME:MDT
DTSTART:20230312T090000
END:DAYLIGHT
BEGIN:STANDARD
TZOFFSETFROM:-0600
TZOFFSETTO:-0700
TZNAME:MST
DTSTART:20231105T080000
END:STANDARD
END:VTIMEZONE
BEGIN:VEVENT
DTSTART;TZID=America/Edmonton:20220507T090000
DTEND;TZID=America/Edmonton:20220507T130000
DTSTAMP:20260423T224448
CREATED:20220314T183431Z
LAST-MODIFIED:20220314T202614Z
UID:10000015-1651914000-1651928400@reddeerpcn.com
SUMMARY:Red Deer PCN FUN RUN
DESCRIPTION:An Event for Everyone \nJoin us on May 7\, 2022\, at our NEW Capstone location in Red Deer at the Canada 150 Square.\n\nWe are excited to bring you this all-new Fun Run\, welcoming all ages\, abilities\, and genders to all events. \n\nRace Schedule\n9:00am      10km                                Presented by Co-operators and Swift Insurance & Financial \n9:30am      5km                                  Presented by Co-operators and Swift Insurance & Financial \n11:00am     100m Boogie Babies      Presented by Park City Dental \n11:15am     500m Little Surfers         Presented by Park City Dental \n11:30am     3km                                Presented by Co-operators and Swift Insurance & Financial \n12:45pm     3km Dog Jog                 Presented by The Bone & Biscuit \n \n“Where the FUN Comes in Waves”\nWe will be running all events in WAVES this year so that everyone can choose their preferred group and start time. Prefer running with all-females? There’s a wave for that! Want to take on the fastest competitors? Sign up for a “Fast & Furious” wave! Wave times are approximate and each wave group may be split up into smaller start groups based on any health & safety guidelines in place on the day of the race. You also have the option to participate remotely in the event… just choose that option from the wave dropdown choices during registration. \nSPACE IS LIMITED AND WAVES MAY SELL OUT\, SO REGISTER EARLY! \nCalling all Dogs!\nWe LOVE our dogs\, and know that research shows that dogs can be an amazing support and inspiration when it comes to keeping active! To make sure this is a super fun event\, to show respect for all\, and to keep everyone safe\, please be sure to read the Dog Jog Rules before registering your furry friend for this event. \nNOTE: Dogs are welcome at the event anytime after 12:15pm on race day. For everyone’s comfort and safety\, we ask you to leave your pooch at home until then! \nTo register click Here
URL:https://reddeerpcn.com/events/red-deer-pcn-fun-run/
LOCATION:Alberta
CATEGORIES:Exercise
END:VEVENT
BEGIN:VEVENT
DTSTART;TZID=America/Edmonton:20220517T130000
DTEND;TZID=America/Edmonton:20220517T140000
DTSTAMP:20260423T224448
CREATED:20220224T165452Z
LAST-MODIFIED:20220224T165521Z
UID:10000017-1652792400-1652796000@reddeerpcn.com
SUMMARY:Year of the Garden
DESCRIPTION:Come and learn more about the City of Red Deer’s new initiative\, why being outside is good for your mental health and other fun free outdoor activities available to you in partnerships with the City Red Deer and Red Deer PCN. \nPresented by: PJ Swales\, Denise Fredeen and Recreation Therapist Lynsey Hermary. \nTune in live on Red Deer Public Library Facebook page for this program. You may need to refresh the page at the time of the event to see the live stream. 
URL:https://reddeerpcn.com/events/year-of-the-garden/
LOCATION:Red Deer Public Library Facebook\, Alberta\, Canada
CATEGORIES:Health Cafe
END:VEVENT
END:VCALENDAR